BEGIN:VCALENDAR
VERSION:2.0
PRODID:-//Connected Eastern Southland - ECPv6.15.20//NONSGML v1.0//EN
CALSCALE:GREGORIAN
METHOD:PUBLISH
X-ORIGINAL-URL:https://www.cnt.org.nz
X-WR-CALDESC:Events for Connected Eastern Southland
REFRESH-INTERVAL;VALUE=DURATION:PT1H
X-Robots-Tag:noindex
X-PUBLISHED-TTL:PT1H
BEGIN:VTIMEZONE
TZID:Pacific/Auckland
BEGIN:STANDARD
TZOFFSETFROM:+1300
TZOFFSETTO:+1200
TZNAME:NZST
DTSTART:20220402T140000
END:STANDARD
BEGIN:DAYLIGHT
TZOFFSETFROM:+1200
TZOFFSETTO:+1300
TZNAME:NZDT
DTSTART:20220924T140000
END:DAYLIGHT
BEGIN:STANDARD
TZOFFSETFROM:+1300
TZOFFSETTO:+1200
TZNAME:NZST
DTSTART:20230401T140000
END:STANDARD
BEGIN:DAYLIGHT
TZOFFSETFROM:+1200
TZOFFSETTO:+1300
TZNAME:NZDT
DTSTART:20230923T140000
END:DAYLIGHT
BEGIN:STANDARD
TZOFFSETFROM:+1300
TZOFFSETTO:+1200
TZNAME:NZST
DTSTART:20240406T140000
END:STANDARD
BEGIN:DAYLIGHT
TZOFFSETFROM:+1200
TZOFFSETTO:+1300
TZNAME:NZDT
DTSTART:20240928T140000
END:DAYLIGHT
END:VTIMEZONE
BEGIN:VEVENT
DTSTART;TZID=Pacific/Auckland:20231128T100000
DTEND;TZID=Pacific/Auckland:20231128T113000
DTSTAMP:20260424T013714
CREATED:20231114T230021Z
LAST-MODIFIED:20231114T230021Z
UID:2256-1701165600-1701171000@www.cnt.org.nz
SUMMARY:Scam Prevention Seminar
DESCRIPTION:Ready For Living\, Neighbourhood Support and Heartland Services/Connected Eastern Southland are partnering to host a scams prevention session to educate the community on keeping safe both in their digital\, and personal spaces. \nPeople in New Zealand are losing millions of dollars to scammers each year – and this is just the figures reported to Netsafe so the actual figure is likely much higher. \nIn the lead up to Christmas retail period the opportunity for scamming increases. \nWe are hosting an informative and interactive seminar with representatives from Inland Revenue\, ANZ Bank\, Neighbourhood Support and Gore Police about what common scams look like\, what to be aware of and how to protect yourself\, and also what to do if you or someone you know has been a victim of a scam. \nWe will provide morning tea\, resources for attendees to take away\, and an informal chat with a rep session at the conclusion of the main presentations.
URL:https://www.cnt.org.nz/event/scam-prevention-seminar/
END:VEVENT
BEGIN:VEVENT
DTSTART;TZID=Pacific/Auckland:20231122T093000
DTEND;TZID=Pacific/Auckland:20231122T103000
DTSTAMP:20260424T013714
CREATED:20231114T232027Z
LAST-MODIFIED:20231115T011238Z
UID:2264-1700645400-1700649000@www.cnt.org.nz
SUMMARY:Community Networking Trust Annual General Meeting\, and Community Liaison Meeting
DESCRIPTION:We would like to invite you\, or a representative of your group\, agency\, or organisation to attend the Community Networking Trust’s Annual General Meeting\, and following that\, the November Community Liaison Meeting. \nThe AGM will be held at the James Cumming Community Centre – Otamatea/Otamita Room. \nThis will be the final CLM for 2023. I wish to thank you all for supporting our CLM’s throughout the year and will return in February 2024. \n  \nPlease note the AGM starts at 9.30am\, CLM to follow on Wednesday 22nd November. \nCommunity Liaison Meeting to follow AGM \nPresentation: \nAnne Pullar – Ready For Living \n  \nDate:              Wednesday 22nd November  \nTime:             9:30am – AGM begins\, Community Liaison Meeting to follow \nPlace:            James Cumming Community Centre – Otamatea/Otamita Room \n Nomination forms for the Community Networking Trust Board are available from Connected Eastern Southland\, or email reception@cnt.org.nz for a digital form. Completed Board Member nomination forms to be returned by 17th November please. \nPlease pass on this invitation to any other staff or members of your organisation. RSVPs requested to reception@cnt.org.nz by 17th November for catering purposes please. \nWe look forward to seeing you there. \n 
URL:https://www.cnt.org.nz/event/community-networking-trust-annual-general-meeting-and-community-liaison-meeting/
END:VEVENT
END:VCALENDAR